Workbook

Sheet Лист2
E1: Додаток 2
E2: до прогнозу бюджету Тернівського району у місті Кривий Ріг на 2022, 2023 роки
B4: Прогноз видатків та надання кредитів головних розпорядників коштів бюджету району на 2022, 2023 роки
F5: грн.
A6: Код відомчої класифікації | B6: Найменування головного розпорядника коштів бюджету району | C6: Показники, визначені в проєкті рішення районної у місті ради "Про внесення змін до показників бюджеут Тернівського району у місті Кривому Розі Дніпропетровської області на 2020 рік" | D6: Показники, визначені у проєкті рішення районної у місті ради "Про бюджет Тернівського району у місті Кривий Ріг на 2021 рік" | E6: Прогнозні показники бюджету району на:
E7: 2022 рік | F7: 2023 рік
A8: 1 | B8: 2 | C8: 3 | D8: 4 | E8: 5 | F8: 6
A9: 0200000 | B9: Виконком районної у місті ради | C9: =C10+C11 -> 45860715 | D9: =D10+D11 -> 45152852 | E9: =E10+E11 -> 44177541 | F9: =F10+F11 -> 44632752
B10: загальний фонд | C10: =39501708+3393992 -> 42895700 | D10: 43483391 | E10: =Лист1!E10+Лист1!E12+Лист1!E13+Лист1!E14 -> 44153541 | F10: =Лист1!F10+Лист1!F12+Лист1!F13+Лист1!F14 -> 44632752
B11: спеціальний фонд | C11: =Лист1!C18+Лист1!C22 -> 2965015 | D11: =1638517+2634+28310 -> 1669461 | E11: 24000 | F11: 0
A12: 0800000 | B12: Управління праці та соціального захисту населення виконкому районної у місті ради | C12: =C13+C14 -> 15983770 | D12: =D13+D14 -> 20012817 | E12: =E13+E14 -> 22032447 | F12: =F13+F14 -> 23602290
B13: загальний фонд | C13: =15256036+68564 -> 15324600 | D13: =19019261+184264 -> 19203525 | E13: =Лист1!E11 -> 21207787 | F13: =Лист1!F11 -> 22719443
B14: спеціальний фонд | C14: =83581+575589 -> 659170 | D14: =Лист1!D19+53700 -> 809292 | E14: =Лист1!E19 -> 824660 | F14: =Лист1!F19 -> 882847
B15: РАЗОМ: | C15: =C16+C17 -> 61844485 | D15: =D16+D17 -> 65165669 | E15: =E16+E17 -> 66209988 | F15: =F16+F17 -> 68235042
B16: загальний фонд | C16: =C10+C13 -> 58220300 | D16: =D10+D13 -> 62686916 | E16: =E10+E13 -> 65361328 | F16: =F10+F13 -> 67352195
B17: спеціальний фонд | C17: =C11+C14 -> 3624185 | D17: =D11+D14 -> 2478753 | E17: =E11+E14 -> 848660 | F17: =F11+F14 -> 882847
C19: =C16+C17 -> 61844485 | D19: =D16+D17 -> 65165669 | E19: =E16+E17 -> 66209988 | F19: =F16+F17 -> 68235042
A20: Згідно з оригіналом.
A21: Завідувач загального відділу | E21: Олена Міщук

Sheet Лист1
D1: Додаток 3
D2: до прогнозу бюджету Тернівського району у місті Кривий Ріг на 2022, 2023 роки
A4: Прогноз видатків та надання кредитів бюджету району за функціональною ознакою на 2022, 2023 роки
F5: грн.
A6: Код ТПКВКМБ | B6: Найменування | C6: Показники, визначені в проєкті рішення районної у місті ради "Про внесення змін до показників бюджеут Тернівського району у місті Кривому Розі Дніпропетровської області на 2020 рік" | D6: Показники, визначені у проєкті рішення районної у місті ради "Про бюджет Тернівського району у місті Кривий Ріг на 2021 рік" | E6: Індикативні прогнозні показники бюджету району на:
E7: 2022 рік | F7: 2023 рік
A8: 1 | B8: 2 | C8: 3 | D8: 4 | E8: 5 | F8: 6
A9: Загальний фонд
A10: 0100 | B10: Державне управління | C10: 35139808 | D10: 38467425 | E10: =38651271+26762+54605+113209+5340 -> 38851187 | F10: =38838857+28180+57500+119211+5625 -> 39049373
A11: 3000 | B11: Соціальний захист та соціальне забезпчення | C11: =15324600-68564 -> 15256036 | D11: =17907350+624211+487700 -> 19019261 | E11: =19993590+662912+517938+33347 -> 21207787 | F11: =21440895+698046+545388+35114 -> 22719443
A12: 4000 | B12: Культура і мистецтво | C12: 151920 | D12: 211100 | E12: 224188 | F12: 236070
A13: 5000 | B13: Фізична культура і спорт | C13: 126700 | D13: 46400 | E13: 49277 | F13: 51889
A14: 6000 | B14: Житлово-комунальне господарство | C14: 4083280 | D14: =4733000+2300 -> 4735300 | E14: 5028889 | F14: 5295420
A15: 9000 | B15: Міжбюджетні трансферти | C15: =3393992+68564 -> 3462556 | D15: =184264+23166 -> 207430 | E15: 0 | F15: 0 | H15: гром бюджет благоустр+терцентр
A16: Усього видатків по загальному фонду бюджету району: | C16: =C10+C11+C12+C13+C14+C15 -> 58220300 | D16: =D10+D11+D12+D13+D14+D15 -> 62686916 | E16: =E10+E11+E12+E13+E14+E15 -> 65361328 | F16: =F10+F11+F12+F13+F14+F15 -> 67352195
A17: Спеціальний фонд
A18: 0100 | B18: Державне управління | C18: 2763205 | D18: 28310 | E18: 24000 | F18: 0
A19: 3000 | B19: Соціальний захист та соціальне забезпчення | C19: =659170-83581 -> 575589 | D19: =755592 -> 755592 | E19: 824660 | F19: 882847
A20: 4000 | B20: Культура і мистецтво
A21: 5000 | B21: Фізична культура і спорт
A22: 6000 | B22: Житлово-комунальне господарство | C22: =198000+3810 -> 201810 | D22: =2634 -> 2634 | E22: 0 | F22: 0
A23: 9000 | B23: Міжбюджетні трансферти | C23: =83581 -> 83581 | D23: =1638517+53700 -> 1692217 | E23: 0 | F23: 0 | H23: гром бюджет благоустр+терцентр
A24: Усього видатків по спеціальному фонду бюджету району: | C24: =C18+C19+C23+C22 -> 3624185 | D24: =D18+D19+D22+D23 -> 2478753 | E24: =E18+E19+E23 -> 848660 | F24: =F18+F19+F23 -> 882847
A25: УСЬОГО по загальному та спеціальному фонду бюджету району: | C25: =C24+C16 -> 61844485 | D25: =D24+D16 -> 65165669 | E25: =E24+E16 -> 66209988 | F25: =F24+F16 -> 68235042
A26: Згідно з оригіналом.
A27: Завідувач загального відділу | E27: Олена Міщук
C29: 1774896
C30: 152145
